BEGIN:VCALENDAR
VERSION:2.0
PRODID:-//Stadtteilzentrum Steglitz e.V. - ECPv6.15.20//NONSGML v1.0//EN
CALSCALE:GREGORIAN
METHOD:PUBLISH
X-ORIGINAL-URL:https://www.stadtteilzentrum-steglitz.de
X-WR-CALDESC:Veranstaltungen für Stadtteilzentrum Steglitz e.V.
REFRESH-INTERVAL;VALUE=DURATION:PT1H
X-Robots-Tag:noindex
X-PUBLISHED-TTL:PT1H
BEGIN:VTIMEZONE
TZID:Europe/Berlin
BEGIN:DAYLIGHT
TZOFFSETFROM:+0100
TZOFFSETTO:+0200
TZNAME:CEST
DTSTART:20230326T010000
END:DAYLIGHT
BEGIN:STANDARD
TZOFFSETFROM:+0200
TZOFFSETTO:+0100
TZNAME:CET
DTSTART:20231029T010000
END:STANDARD
BEGIN:DAYLIGHT
TZOFFSETFROM:+0100
TZOFFSETTO:+0200
TZNAME:CEST
DTSTART:20240331T010000
END:DAYLIGHT
BEGIN:STANDARD
TZOFFSETFROM:+0200
TZOFFSETTO:+0100
TZNAME:CET
DTSTART:20241027T010000
END:STANDARD
BEGIN:DAYLIGHT
TZOFFSETFROM:+0100
TZOFFSETTO:+0200
TZNAME:CEST
DTSTART:20250330T010000
END:DAYLIGHT
BEGIN:STANDARD
TZOFFSETFROM:+0200
TZOFFSETTO:+0100
TZNAME:CET
DTSTART:20251026T010000
END:STANDARD
END:VTIMEZONE
BEGIN:VEVENT
DTSTART;VALUE=DATE:20241109
DTEND;VALUE=DATE:20241110
DTSTAMP:20260419T161401
CREATED:20210706T100326Z
LAST-MODIFIED:20210706T100326Z
UID:10001467-1731110400-1731196799@www.stadtteilzentrum-steglitz.de
SUMMARY:Öffnung und Fall der Mauer
DESCRIPTION:Der 9. November 1989 und die folgende Nacht bedeuteten das Ende der Mauer\, die 28 Jahre lang Ost- und Westberlin geteilt hatte. Tausende Berlinerinnen und Berliner strömten an diesem Abend zu den Grenzübergängen\, nachdem die DDR-Regierung vorzeitig eine neue Reiseregelung verkündet hatte. Die Grenzpolizisten konnten dem Andrang der Menschen nicht mehr standhalten – kurz nach Mitternacht waren alle Grenzübergänge der Stadt geöffnet. \nQuelle + Informationen: Bundeszentrale für politische Bildung
URL:https://www.stadtteilzentrum-steglitz.de/veranstaltung/oeffnung-und-fall-der-mauer/2024-11-09/
CATEGORIES:Allgemeine Termine
ATTACH;FMTTYPE=image/jpeg:https://www.stadtteilzentrum-steglitz.de/wp-content/uploads/2021/07/berliner.mauer_web.jpg
END:VEVENT
BEGIN:VEVENT
DTSTART;VALUE=DATE:20241113
DTEND;VALUE=DATE:20241114
DTSTAMP:20260419T161401
CREATED:20210706T104922Z
LAST-MODIFIED:20210706T104922Z
UID:10001471-1731456000-1731542399@www.stadtteilzentrum-steglitz.de
SUMMARY:Welt-Nettigkeitstag
DESCRIPTION:Nett sein ist Pflicht am 13. November 2021\, dem Welt-Nettigkeitstag oder World Kindness Day. Der Aktionstag wurde von der japanischen Nettigkeitsbewegung initiiert. Die Premiere feierte der Tag 1998 in Tokyo am Eröffnungstag der Konferenz des World Kindess Movement. Zeitgleich ist der 13. November auch der Tag\, an dem 1997 das „Small Kindness Movement“ entstand. Die Nettigkeitsbewegung möchte erreichen\, dass die Menschen freundlicher im Umgang miteinander sind und somit eine allgemein freundlichere Welt entsteht. Am Welt-Nettigkeitstag gilt es also nett zu sein – und zwar ausnahmslos. \nQuelle: www.kleiner-kalender.de
URL:https://www.stadtteilzentrum-steglitz.de/veranstaltung/welt-nettigkeitstag/2024-11-13/
LOCATION:Weltweit\, Deutschland
CATEGORIES:Allgemeine Termine
ATTACH;FMTTYPE=image/jpeg:https://www.stadtteilzentrum-steglitz.de/wp-content/uploads/2021/07/nett.jpg
END:VEVENT
BEGIN:VEVENT
DTSTART;VALUE=DATE:20241116
DTEND;VALUE=DATE:20241117
DTSTAMP:20260419T161401
CREATED:20210706T113321Z
LAST-MODIFIED:20210706T113321Z
UID:10001475-1731715200-1731801599@www.stadtteilzentrum-steglitz.de
SUMMARY:Internationaler Tag der Toleranz
DESCRIPTION:Am 16. November findet der internationale Tag der Toleranz statt. 1995 unterzeichneten 185 Mitgliedsstaaten der UNESCO feierlich die Erklärung der Prinzipien zur Toleranz. \nSeitdem erinnert die UNESCO mit dem Tag für Toleranz jährlich an jene Regeln\, die ein menschenwürdiges Zusammenleben der unterschiedlichen Kulturen und Religionen auf unserem Planeten ermöglichen. \nQuelle: www.bildungsserver.de
URL:https://www.stadtteilzentrum-steglitz.de/veranstaltung/internationaler-tag-der-toleranz/2024-11-16/
LOCATION:Weltweit\, Deutschland
CATEGORIES:Allgemeine Termine
ATTACH;FMTTYPE=image/jpeg:https://www.stadtteilzentrum-steglitz.de/wp-content/uploads/2021/07/toleranz.jpg
END:VEVENT
BEGIN:VEVENT
DTSTART;VALUE=DATE:20241119
DTEND;VALUE=DATE:20241120
DTSTAMP:20260419T161401
CREATED:20210707T070447Z
LAST-MODIFIED:20210707T070447Z
UID:10001479-1731974400-1732060799@www.stadtteilzentrum-steglitz.de
SUMMARY:Internationaler Männertag
DESCRIPTION:Die Männer der Welt feiern sich selbst mit dem Internationalen Männertag\, der am 19. November stattfindet. Eingeführt wurde der Aktionstag 1999 in Trinidad und Tobago als International Men’s Day. Die Ziele des Tages sind vor allem die Fokussierung auf die Gesundheit von Jungen und Männern\, die Förderung der Gleichberechtigung zwischen Männern und Frauen sowie die Hervorhebung männlicher Vorbilder. Eventuelle Benachteiligungen des männlichen Geschlechts sollen aufgezeigt und der Einsatz der Männer im sozialen Leben soll gewürdigt werden. \nQuelle: www.kleiner-kalender.de
URL:https://www.stadtteilzentrum-steglitz.de/veranstaltung/internationaler-maennertag/2024-11-19/
CATEGORIES:Allgemeine Termine
ATTACH;FMTTYPE=image/jpeg:https://www.stadtteilzentrum-steglitz.de/wp-content/uploads/2021/07/maennertag.jpg
END:VEVENT
BEGIN:VEVENT
DTSTART;VALUE=DATE:20241125
DTEND;VALUE=DATE:20241126
DTSTAMP:20260419T161401
CREATED:20210707T071249Z
LAST-MODIFIED:20210707T071543Z
UID:10001483-1732492800-1732579199@www.stadtteilzentrum-steglitz.de
SUMMARY:Internationaler Tag gegen Gewalt an Frauen
DESCRIPTION:Auf der 83. Plenarsitzung am 17. Dezember 1999 verabschiedet die UN-Generalversammlung ohne Abstimmung eine Resolution\, nach der der 25. November zum Internationalen Tag zur Beseitigung von Gewalt gegen Frauen\, auch „Internationaler Tag gegen Gewalt an Frauen“\, bestimmt wurde.  Damals zeigte sich die Generalversammlung „beunruhigt darüber\, dass Frauen nicht in den vollen Genuss ihrer Menschenrechte und Grundfreiheiten kommen\, und besorgt darüber\, dass es nach wie vor nicht gelungen ist\, diese Rechte und Freiheiten im Falle von Gewalt gegen Frauen zu schützen und zu fördern“. Alljährlich soll mit dem internationalen Gedenktag das öffentliche Interesse auf die Gewalt gegen Frauen gelenkt werden und Strategien zur Bekämpfung in den Mittelpunkt rücken. \nhttps://www.bpb.de/politik/hintergrund-aktuell/196723/gewalt-gegen-frauen-25-11-2014 \nQuelle + weitere Informationen: www.frauenbeauftragte.org + Bundeszentrale für politische Bildung
URL:https://www.stadtteilzentrum-steglitz.de/veranstaltung/internationaler-tag-gegen-gewalt-an-frauen/2024-11-25/
LOCATION:Weltweit\, Deutschland
CATEGORIES:Allgemeine Termine
ATTACH;FMTTYPE=image/jpeg:https://www.stadtteilzentrum-steglitz.de/wp-content/uploads/2021/07/gewalt.frauen.jpg
END:VEVENT
END:VCALENDAR