BEGIN:VCALENDAR
VERSION:2.0
PRODID:-//Stadtteilzentrum Steglitz e.V. - ECPv6.15.20//NONSGML v1.0//EN
CALSCALE:GREGORIAN
METHOD:PUBLISH
X-WR-CALNAME:Stadtteilzentrum Steglitz e.V.
X-ORIGINAL-URL:https://www.stadtteilzentrum-steglitz.de
X-WR-CALDESC:Veranstaltungen für Stadtteilzentrum Steglitz e.V.
REFRESH-INTERVAL;VALUE=DURATION:PT1H
X-Robots-Tag:noindex
X-PUBLISHED-TTL:PT1H
BEGIN:VTIMEZONE
TZID:Europe/Berlin
BEGIN:DAYLIGHT
TZOFFSETFROM:+0100
TZOFFSETTO:+0200
TZNAME:CEST
DTSTART:20230326T010000
END:DAYLIGHT
BEGIN:STANDARD
TZOFFSETFROM:+0200
TZOFFSETTO:+0100
TZNAME:CET
DTSTART:20231029T010000
END:STANDARD
BEGIN:DAYLIGHT
TZOFFSETFROM:+0100
TZOFFSETTO:+0200
TZNAME:CEST
DTSTART:20240331T010000
END:DAYLIGHT
BEGIN:STANDARD
TZOFFSETFROM:+0200
TZOFFSETTO:+0100
TZNAME:CET
DTSTART:20241027T010000
END:STANDARD
BEGIN:DAYLIGHT
TZOFFSETFROM:+0100
TZOFFSETTO:+0200
TZNAME:CEST
DTSTART:20250330T010000
END:DAYLIGHT
BEGIN:STANDARD
TZOFFSETFROM:+0200
TZOFFSETTO:+0100
TZNAME:CET
DTSTART:20251026T010000
END:STANDARD
END:VTIMEZONE
BEGIN:VEVENT
DTSTART;VALUE=DATE:20240901
DTEND;VALUE=DATE:20240902
DTSTAMP:20260419T161211
CREATED:20210701T114830Z
LAST-MODIFIED:20210705T111843Z
UID:10001406-1725148800-1725235199@www.stadtteilzentrum-steglitz.de
SUMMARY:Antikriegstag
DESCRIPTION:In Deutschland wird am 01. September 2021 der Antikriegstag begangen. Er erinnert jährlich an den Beginn des Zweiten Weltkrieges mit dem Angriff der Wehrmacht auf Polen am 1. September 1939. \nQuelle: Kleiner Kalender
URL:https://www.stadtteilzentrum-steglitz.de/veranstaltung/antikriegstag/2024-09-01/
LOCATION:Weltweit\, Deutschland
CATEGORIES:Allgemeine Termine
ATTACH;FMTTYPE=image/jpeg:https://www.stadtteilzentrum-steglitz.de/wp-content/uploads/2021/07/antikrieg.jpg
END:VEVENT
BEGIN:VEVENT
DTSTART;VALUE=DATE:20240905
DTEND;VALUE=DATE:20240906
DTSTAMP:20260419T161211
CREATED:20210701T121027Z
LAST-MODIFIED:20210705T084133Z
UID:10001410-1725494400-1725580799@www.stadtteilzentrum-steglitz.de
SUMMARY:Internationaler Tag der Wohltätigkeit
DESCRIPTION:Mit dem internationalen Tag der Wohltätigkeit am 5. September wird dazu aufgerufen\, sich ehrenamtlich und wohltätig einzusetzen und anderen zu helfen. Der Tag wurde 2012 durch die Vereinten Nationen (UN) initiiert. Als Datum wurde der Todestag von Mutter Teresa gewählt\, die weltweit für ihre Wohltätigkeit bekannt war. \nQuelle: Kleiner Kalender
URL:https://www.stadtteilzentrum-steglitz.de/veranstaltung/internationaler-tag-der-wohltaetigkeit/2024-09-05/
LOCATION:Weltweit\, Deutschland
CATEGORIES:Allgemeine Termine
ATTACH;FMTTYPE=image/jpeg:https://www.stadtteilzentrum-steglitz.de/wp-content/uploads/2021/07/wohlkaetigkeit.jpg
END:VEVENT
BEGIN:VEVENT
DTSTART;VALUE=DATE:20240911
DTEND;VALUE=DATE:20240912
DTSTAMP:20260419T161211
CREATED:20210701T122620Z
LAST-MODIFIED:20210705T111924Z
UID:10001414-1726012800-1726099199@www.stadtteilzentrum-steglitz.de
SUMMARY:Tag der Wohnungslosen
DESCRIPTION:Der Tag der Wohnungslosen ist ein Aktionstag\, welcher jährlich am 11. September begangen wird. Gegenwärtig leben in der Bundesrepublik Deutschland nach aktuellen Schätzungen der Bundesarbeitsgemeinschaft Wohnungslosenhilfe insgesamt 292.000 wohnungslose Personen (BAGW 2006). \nQuelle: Kleiner Kalender \nInformationen: BAG Wohnungslosenhilfe e.V. + Selbstvertretung Wohnungsloser Menschen
URL:https://www.stadtteilzentrum-steglitz.de/veranstaltung/tag-der-wohnungslosen/2024-09-11/
LOCATION:Deutschland\, Deutschland
CATEGORIES:Allgemeine Termine
ATTACH;FMTTYPE=image/jpeg:https://www.stadtteilzentrum-steglitz.de/wp-content/uploads/2021/07/wohnungslos.jpg
END:VEVENT
BEGIN:VEVENT
DTSTART;VALUE=DATE:20240917
DTEND;VALUE=DATE:20240918
DTSTAMP:20260419T161211
CREATED:20210705T120506Z
LAST-MODIFIED:20210705T120506Z
UID:10001426-1726531200-1726617599@www.stadtteilzentrum-steglitz.de
SUMMARY:Internationaler Tag des Friedens
DESCRIPTION:Am 21. September wird der Internationale Tag des Friedens gefeiert. Die Jahresversammlungen der UN-Generalversammlung beginnen traditionell am dritten Dienstag im September. Am 21. September 1981\, dem Tag der damaligen Vollversammlung\, verkündete die Generalversammlung: Dieser Tag soll offiziell benannt und gefeiert werden als Weltfriedenstag (International Day of Peace) und soll genutzt werden\, um die Idee des Friedens sowohl innerhalb der Länder und Völker als auch zwischen ihnen zu beobachten und zu stärken. \nQuelle: www.kleiner-kalender.de
URL:https://www.stadtteilzentrum-steglitz.de/veranstaltung/internationaler-tag-des-friedens/2024-09-17/
LOCATION:Weltweit\, Deutschland
CATEGORIES:Allgemeine Termine
ATTACH;FMTTYPE=image/jpeg:https://www.stadtteilzentrum-steglitz.de/wp-content/uploads/2021/07/frieden.jpg
END:VEVENT
BEGIN:VEVENT
DTSTART;VALUE=DATE:20240920
DTEND;VALUE=DATE:20240921
DTSTAMP:20260419T161211
CREATED:20210705T113141Z
LAST-MODIFIED:20210705T113301Z
UID:10001422-1726790400-1726876799@www.stadtteilzentrum-steglitz.de
SUMMARY:Weltkindertag
DESCRIPTION:Die 9. Vollversammlung der Vereinten Nationen am 21. September 1954 war die Geburtsstunde des Weltkindertages. Die VN empfahl ihren Mitgliedsstaaten\, einen weltweiten Kindertag einzurichten. \nDamit wurden drei Ziele verfolgt: Der Einsatz für die Rechte der Kinder. Die Förderung der Freundschaft unter den Kindern und Jugendlichen. Einmal im Jahr sollten sich die Regierungen öffentlich verpflichten\, die Arbeit des Kinderhilfswerks der Vereinten Nationen UNICEF zu unterstützen. \nQuelle und weitere Informationen: weltkindertag.de
URL:https://www.stadtteilzentrum-steglitz.de/veranstaltung/weltkindertag/2024-09-20/
LOCATION:Weltweit\, Deutschland
CATEGORIES:Allgemeine Termine
ATTACH;FMTTYPE=image/jpeg:https://www.stadtteilzentrum-steglitz.de/wp-content/uploads/2019/06/kindergarten.jpeg
END:VEVENT
BEGIN:VEVENT
DTSTART;VALUE=DATE:20240920
DTEND;VALUE=DATE:20240921
DTSTAMP:20260419T161211
CREATED:20210713T073823Z
LAST-MODIFIED:20210713T073823Z
UID:10001539-1726790400-1726876799@www.stadtteilzentrum-steglitz.de
SUMMARY:Weltkindertag / Internationale Tag der Kinderrechte
DESCRIPTION:An diesem speziellen Feiertag für Kinder sind vor allem Erwachsene dazu aufgerufen\, auf die Rechte der Kinder aufmerksam zu machen und dafür zu werben. Er wird auch Internationaler Tag der Kinderrechte genannt. \nDieser Internationale Tag der Kinderrechte ist vom Internationalen Kindertag am 1. Juni\, dem Jahrestag der Weltkonferenz für das Wohlergehen der Kinder von 1925\, zu unterscheiden. In vielen Ländern wird er am 20. November gefeiert\, in Deutschland und Österreich aber am 20. September. Der 20. November ist der Jahrestag der Erklärung der Kinderrechte im Jahr 1989 durch die Vereinten Nationen. \nQuelle: www.kleiner-kalender.de
URL:https://www.stadtteilzentrum-steglitz.de/veranstaltung/weltkindertag-internationale-tag-der-kinderrechte/2024-09-20/
CATEGORIES:Allgemeine Termine
ATTACH;FMTTYPE=image/jpeg:https://www.stadtteilzentrum-steglitz.de/wp-content/uploads/2021/07/kinderrechte.jpg
END:VEVENT
BEGIN:VEVENT
DTSTART;VALUE=DATE:20240921
DTEND;VALUE=DATE:20240922
DTSTAMP:20260419T161211
CREATED:20210701T124320Z
LAST-MODIFIED:20210705T112012Z
UID:10001418-1726876800-1726963199@www.stadtteilzentrum-steglitz.de
SUMMARY:World Cleanup Day
DESCRIPTION:Immer am dritten Samstag im September findet jedes Jahr der World Cleanup Day statt. Er ist die größte Bottom-Up-Bewegung der Welt zur Beseitigung von Müll. Alle können mitmachen! \nAktionen anmelden: https://worldcleanupday.de
URL:https://www.stadtteilzentrum-steglitz.de/veranstaltung/world-cleanup-day/2024-09-21/
LOCATION:Weltweit\, Deutschland
CATEGORIES:Allgemeine Termine
ATTACH;FMTTYPE=image/jpeg:https://www.stadtteilzentrum-steglitz.de/wp-content/uploads/2021/07/cleanup.jpg
END:VEVENT
BEGIN:VEVENT
DTSTART;VALUE=DATE:20240929
DTEND;VALUE=DATE:20240930
DTSTAMP:20260419T161211
CREATED:20210705T130757Z
LAST-MODIFIED:20210705T130932Z
UID:10001431-1727568000-1727654399@www.stadtteilzentrum-steglitz.de
SUMMARY:Weltherztag
DESCRIPTION:Am 29. September findet alljährlich der Weltherztag statt. Ziel: Menschen zu Aktivitäten anregen\, die ihrem Herzen guttun \nInformationen + Quelle: www.herzstiftung.de
URL:https://www.stadtteilzentrum-steglitz.de/veranstaltung/weltherztag/2024-09-29/
CATEGORIES:Allgemeine Termine
ATTACH;FMTTYPE=image/jpeg:https://www.stadtteilzentrum-steglitz.de/wp-content/uploads/2020/09/kita2_web.jpg
END:VEVENT
END:VCALENDAR