BEGIN:VCALENDAR
VERSION:2.0
PRODID:-//Stadtteilzentrum Steglitz e.V. - ECPv6.15.20//NONSGML v1.0//EN
CALSCALE:GREGORIAN
METHOD:PUBLISH
X-WR-CALNAME:Stadtteilzentrum Steglitz e.V.
X-ORIGINAL-URL:https://www.stadtteilzentrum-steglitz.de
X-WR-CALDESC:Veranstaltungen für Stadtteilzentrum Steglitz e.V.
REFRESH-INTERVAL;VALUE=DURATION:PT1H
X-Robots-Tag:noindex
X-PUBLISHED-TTL:PT1H
BEGIN:VTIMEZONE
TZID:Europe/Berlin
BEGIN:DAYLIGHT
TZOFFSETFROM:+0100
TZOFFSETTO:+0200
TZNAME:CEST
DTSTART:20230326T010000
END:DAYLIGHT
BEGIN:STANDARD
TZOFFSETFROM:+0200
TZOFFSETTO:+0100
TZNAME:CET
DTSTART:20231029T010000
END:STANDARD
BEGIN:DAYLIGHT
TZOFFSETFROM:+0100
TZOFFSETTO:+0200
TZNAME:CEST
DTSTART:20240331T010000
END:DAYLIGHT
BEGIN:STANDARD
TZOFFSETFROM:+0200
TZOFFSETTO:+0100
TZNAME:CET
DTSTART:20241027T010000
END:STANDARD
BEGIN:DAYLIGHT
TZOFFSETFROM:+0100
TZOFFSETTO:+0200
TZNAME:CEST
DTSTART:20250330T010000
END:DAYLIGHT
BEGIN:STANDARD
TZOFFSETFROM:+0200
TZOFFSETTO:+0100
TZNAME:CET
DTSTART:20251026T010000
END:STANDARD
END:VTIMEZONE
BEGIN:VEVENT
DTSTART;VALUE=DATE:20240802
DTEND;VALUE=DATE:20240803
DTSTAMP:20260419T144348
CREATED:20210701T102947Z
LAST-MODIFIED:20210705T111606Z
UID:10001390-1722556800-1722643199@www.stadtteilzentrum-steglitz.de
SUMMARY:Gedenktag Genozid an den Sinti und Roma
DESCRIPTION:Rund 500.000 Roma und Sinti wurden während des Holocaust ermordet – Opfer einer rassistischen Verfolgungspolitik deutscher und österreichischer Nationalsozialisten und ihrer faschistischen Verbündeten. Doch diesem Völkermord kommt heute immer noch wenig Beachtung zu. Roma und Sinti wurden in Vernichtungslagern\, wie etwa in Auschwitz\, getötet und fielen in Zwangsarbeits- und Konzentrationslagern der alltäglichen Gewalt\, Hunger und Krankheiten zum Opfer. Viele wurden deportiert und als Zwangsarbeiter ausgebeutet\, auf Bauernhöfen\, auf Baustellen und in der Industrie. Roma und Sinti nennen diesen Genozid „Porajmos“\, was „Verschlingung“ oder „Zerstörung“ auf Romani bedeutet. \nDer 2. August ist der Internationale Tag des Gedenkens an den Genozid an den Sinti und Roma. \nQuelle: erinnern.at \nDenkmal und Informationen: stiftung-denkmal.de
URL:https://www.stadtteilzentrum-steglitz.de/veranstaltung/gedenktag-genozid-an-den-sinti-und-roma/2024-08-02/
LOCATION:Weltweit\, Deutschland
CATEGORIES:Allgemeine Termine
ATTACH;FMTTYPE=image/jpeg:https://www.stadtteilzentrum-steglitz.de/wp-content/uploads/2021/07/memorialsintiandromavictims.jpg
END:VEVENT
BEGIN:VEVENT
DTSTART;VALUE=DATE:20240809
DTEND;VALUE=DATE:20240810
DTSTAMP:20260419T144348
CREATED:20210701T104121Z
LAST-MODIFIED:20210705T111651Z
UID:10001394-1723161600-1723247999@www.stadtteilzentrum-steglitz.de
SUMMARY:UN-Tag der indigenen Bevölkerungen
DESCRIPTION:Weltweit werden laut den Vereinten Nationen rund 370 Millionen Menschen indigenen Bevölkerungsgruppen zugerechnet. Ihre Lebensgrundlage ist bedroht: durch den zunehmenden Abbau natürlicher Ressourcen\, die Folgen des Klimawandels und die fehlende Anerkennung ihrer Rechte. Darauf macht jedes Jahr am 9. August der UN-Tag der indigenen Bevölkerungen aufmerksam. \nQuelle: Bundeszentrale für politische Bildung
URL:https://www.stadtteilzentrum-steglitz.de/veranstaltung/un-tag-der-indigenen-bevoelkerungen/2024-08-09/
LOCATION:Weltweit\, Deutschland
CATEGORIES:Allgemeine Termine
ATTACH;FMTTYPE=image/jpeg:https://www.stadtteilzentrum-steglitz.de/wp-content/uploads/2021/07/indigenevoelker.jpg
END:VEVENT
BEGIN:VEVENT
DTSTART;VALUE=DATE:20240812
DTEND;VALUE=DATE:20240813
DTSTAMP:20260419T144348
CREATED:20210701T105213Z
LAST-MODIFIED:20210705T111728Z
UID:10001398-1723420800-1723507199@www.stadtteilzentrum-steglitz.de
SUMMARY:Internationaler Tag der Jugend
DESCRIPTION:Am Internationalen Tag der Jugend machen die Vereinten Nationen auf die Interessen junger Menschen und deren politische Beteiligung aufmerksam. Protestbewegungen\, aber auch die aktuelle Einstellungsforschung zeugen von einer neuen Politisierung Jugendlicher. \nQuelle: Bundeszentrale für politische Bildung
URL:https://www.stadtteilzentrum-steglitz.de/veranstaltung/internationaler-tag-der-jugend/2024-08-12/
LOCATION:Weltweit\, Deutschland
CATEGORIES:Allgemeine Termine
ATTACH;FMTTYPE=image/jpeg:https://www.stadtteilzentrum-steglitz.de/wp-content/uploads/2021/07/jugend.jpg
END:VEVENT
BEGIN:VEVENT
DTSTART;VALUE=DATE:20240827
DTEND;VALUE=DATE:20240828
DTSTAMP:20260419T144348
CREATED:20210701T112908Z
LAST-MODIFIED:20210705T111808Z
UID:10001402-1724716800-1724803199@www.stadtteilzentrum-steglitz.de
SUMMARY:Wear it Purple Day
DESCRIPTION:Der Wear it Purple Day wurde 2010 ins Leben gerufen und jedes Jahr am letzten Freitag im August durchgeführt. Am Wear it Purple Day tragen queere Menschen und ihre Verbündeten lilane T-Shirts\, um auf Mobbing gegen queere Jugendliche in Schulen aufmerksam zu machen. \nQuelle: queer-lexikon.net
URL:https://www.stadtteilzentrum-steglitz.de/veranstaltung/wear-it-purple-day/2024-08-27/
LOCATION:Weltweit\, Deutschland
CATEGORIES:Allgemeine Termine
ATTACH;FMTTYPE=image/jpeg:https://www.stadtteilzentrum-steglitz.de/wp-content/uploads/2021/07/wearitpurple.jpg
END:VEVENT
END:VCALENDAR