BEGIN:VCALENDAR
VERSION:2.0
PRODID:-//Stadtteilzentrum Steglitz e.V. - ECPv6.15.20//NONSGML v1.0//EN
CALSCALE:GREGORIAN
METHOD:PUBLISH
X-WR-CALNAME:Stadtteilzentrum Steglitz e.V.
X-ORIGINAL-URL:https://www.stadtteilzentrum-steglitz.de
X-WR-CALDESC:Veranstaltungen für Stadtteilzentrum Steglitz e.V.
REFRESH-INTERVAL;VALUE=DURATION:PT1H
X-Robots-Tag:noindex
X-PUBLISHED-TTL:PT1H
BEGIN:VTIMEZONE
TZID:Europe/Berlin
BEGIN:DAYLIGHT
TZOFFSETFROM:+0100
TZOFFSETTO:+0200
TZNAME:CEST
DTSTART:20230326T010000
END:DAYLIGHT
BEGIN:STANDARD
TZOFFSETFROM:+0200
TZOFFSETTO:+0100
TZNAME:CET
DTSTART:20231029T010000
END:STANDARD
BEGIN:DAYLIGHT
TZOFFSETFROM:+0100
TZOFFSETTO:+0200
TZNAME:CEST
DTSTART:20240331T010000
END:DAYLIGHT
BEGIN:STANDARD
TZOFFSETFROM:+0200
TZOFFSETTO:+0100
TZNAME:CET
DTSTART:20241027T010000
END:STANDARD
BEGIN:DAYLIGHT
TZOFFSETFROM:+0100
TZOFFSETTO:+0200
TZNAME:CEST
DTSTART:20250330T010000
END:DAYLIGHT
BEGIN:STANDARD
TZOFFSETFROM:+0200
TZOFFSETTO:+0100
TZNAME:CET
DTSTART:20251026T010000
END:STANDARD
END:VTIMEZONE
BEGIN:VEVENT
DTSTART;VALUE=DATE:20240717
DTEND;VALUE=DATE:20240718
DTSTAMP:20260419T142547
CREATED:20210701T080548Z
LAST-MODIFIED:20210705T085212Z
UID:10000999-1721174400-1721260799@www.stadtteilzentrum-steglitz.de
SUMMARY:Internationaler Tag der Gerechtigkeit
DESCRIPTION:Am 17. Juli 2021 wird der Internationale Tag für Gerechtigkeit gefeiert. Er ist auch als World Day for International Justice oder International Justice Day bekannt. Das Datum wurde gewählt\, da dies der Jahrestag des Rom-Statuts ist. Es bildet die vertragliche Grundlage des Internationalen Strafgerichtshofs (IStGH) mit Sitz in Den Haag. \nQuelle: Kleiner Kalender \n 
URL:https://www.stadtteilzentrum-steglitz.de/veranstaltung/internationaler-tag-der-gerechtigkeit/2024-07-17/
LOCATION:Weltweit\, Deutschland
CATEGORIES:Allgemeine Termine
ATTACH;FMTTYPE=image/jpeg:https://www.stadtteilzentrum-steglitz.de/wp-content/uploads/2021/07/gerechtigkeit.jpg
END:VEVENT
BEGIN:VEVENT
DTSTART;VALUE=DATE:20240730
DTEND;VALUE=DATE:20240731
DTSTAMP:20260419T142547
CREATED:20210701T085440Z
LAST-MODIFIED:20210705T111522Z
UID:10001005-1722297600-1722383999@www.stadtteilzentrum-steglitz.de
SUMMARY:Internationaler Tag der Freundschaft
DESCRIPTION:Am Tag der Freundschaft soll der wichtigen Bedeutung der Freundschaft gedacht werden. Dabei geht es um die Freundschaft zwischen Personen\, aber auch um freundschaftliche Beziehungen zwischen einzelnen Ländern und Kulturen. \n  \nQuelle: Kleiner Kalender
URL:https://www.stadtteilzentrum-steglitz.de/veranstaltung/internationaler-tag-der-freundschaft-2021/2024-07-30/
LOCATION:Weltweit\, Deutschland
CATEGORIES:Allgemeine Termine
ATTACH;FMTTYPE=image/jpeg:https://www.stadtteilzentrum-steglitz.de/wp-content/uploads/2021/07/freundschaft.jpg
END:VEVENT
END:VCALENDAR