BEGIN:VCALENDAR
VERSION:2.0
PRODID:-//Stadtteilzentrum Steglitz e.V. - ECPv6.15.20//NONSGML v1.0//EN
CALSCALE:GREGORIAN
METHOD:PUBLISH
X-ORIGINAL-URL:https://www.stadtteilzentrum-steglitz.de
X-WR-CALDESC:Veranstaltungen für Stadtteilzentrum Steglitz e.V.
REFRESH-INTERVAL;VALUE=DURATION:PT1H
X-Robots-Tag:noindex
X-PUBLISHED-TTL:PT1H
BEGIN:VTIMEZONE
TZID:Europe/Berlin
BEGIN:DAYLIGHT
TZOFFSETFROM:+0100
TZOFFSETTO:+0200
TZNAME:CEST
DTSTART:20230326T010000
END:DAYLIGHT
BEGIN:STANDARD
TZOFFSETFROM:+0200
TZOFFSETTO:+0100
TZNAME:CET
DTSTART:20231029T010000
END:STANDARD
BEGIN:DAYLIGHT
TZOFFSETFROM:+0100
TZOFFSETTO:+0200
TZNAME:CEST
DTSTART:20240331T010000
END:DAYLIGHT
BEGIN:STANDARD
TZOFFSETFROM:+0200
TZOFFSETTO:+0100
TZNAME:CET
DTSTART:20241027T010000
END:STANDARD
BEGIN:DAYLIGHT
TZOFFSETFROM:+0100
TZOFFSETTO:+0200
TZNAME:CEST
DTSTART:20250330T010000
END:DAYLIGHT
BEGIN:STANDARD
TZOFFSETFROM:+0200
TZOFFSETTO:+0100
TZNAME:CET
DTSTART:20251026T010000
END:STANDARD
END:VTIMEZONE
BEGIN:VEVENT
DTSTART;VALUE=DATE:20240501
DTEND;VALUE=DATE:20240502
DTSTAMP:20260421T110714
CREATED:20210712T101459Z
LAST-MODIFIED:20210712T101459Z
UID:10000967-1714521600-1714607999@www.stadtteilzentrum-steglitz.de
SUMMARY:Tag der Arbeit
DESCRIPTION:Der 1. Mai wird als Internationaler Tag der Arbeit in vielen Ländern der Welt als Feiertag begangen. Der Tag ist auch als Tag der Arbeiterbewegung oder Kampftag der Arbeiterbewegung bekannt. In ganz Deutschland ist der Tag ein arbeitsfreier\, gesetzlicher Feiertag. \nQuelle: www.kleiner-kalender.de
URL:https://www.stadtteilzentrum-steglitz.de/veranstaltung/tag-der-arbeit/2024-05-01/
LOCATION:Weltweit\, Deutschland
CATEGORIES:Allgemeine Termine
ATTACH;FMTTYPE=image/jpeg:https://www.stadtteilzentrum-steglitz.de/wp-content/uploads/2021/07/tagderarbeit.jpg
END:VEVENT
BEGIN:VEVENT
DTSTART;VALUE=DATE:20240502
DTEND;VALUE=DATE:20240503
DTSTAMP:20260421T110714
CREATED:20210712T105956Z
LAST-MODIFIED:20210712T105956Z
UID:10000970-1714608000-1714694399@www.stadtteilzentrum-steglitz.de
SUMMARY:Regenbogenfamilientag
DESCRIPTION:Am 2. Mai ist internationaler Regenbogenfamilientag. Der Aktionstag will Vielfalt in Familienkonstellationen als festen Bestandteil der Gesellschaft sichtbarer machen und auf Herausforderungen und Diskriminierungen aufmerksam machen\, mit denen Regenbogenfamilien konfrontiert sind. \nQuelle + Informationen: www.regenbogenportal.de
URL:https://www.stadtteilzentrum-steglitz.de/veranstaltung/regenbogenfamilientag/2024-05-02/
CATEGORIES:Allgemeine Termine
ATTACH;FMTTYPE=image/jpeg:https://www.stadtteilzentrum-steglitz.de/wp-content/uploads/2021/07/regenbogenfamilien_web.jpg
END:VEVENT
BEGIN:VEVENT
DTSTART;VALUE=DATE:20240505
DTEND;VALUE=DATE:20240506
DTSTAMP:20260421T110714
CREATED:20210712T111026Z
LAST-MODIFIED:20210712T111026Z
UID:10000973-1714867200-1714953599@www.stadtteilzentrum-steglitz.de
SUMMARY:Europäischer Protesttag zur Gleichstellung von Menschen mit Behinderungen
DESCRIPTION:Am europäischen Protesttag zur Gleichstellung von Menschen mit Behinderung organisieren Verbände und Organisationen der Behindertenhilfe und-selbsthilfe Veranstaltungen verschiedenster Art. Dabei geht es um die im Grundgesetz verankerte Gleichberechtigung für alle Menschen und die davon abweichende Lebenswirklichkeit von Menschen mit Behinderung. \nInformationen: www.aktion-mensch.de
URL:https://www.stadtteilzentrum-steglitz.de/veranstaltung/europaeischer-protesttag-zur-gleichstellung-von-menschen-mit-behinderungen/2024-05-05/
CATEGORIES:Allgemeine Termine
ATTACH;FMTTYPE=image/jpeg:https://www.stadtteilzentrum-steglitz.de/wp-content/uploads/2017/04/annaschmidt-berlin.com_Erfahrungen-generationen_pixabay.jpg
END:VEVENT
BEGIN:VEVENT
DTSTART;VALUE=DATE:20240508
DTEND;VALUE=DATE:20240509
DTSTAMP:20260421T110714
CREATED:20210712T120827Z
LAST-MODIFIED:20210712T120827Z
UID:10000979-1715126400-1715212799@www.stadtteilzentrum-steglitz.de
SUMMARY:Ende des Zweiten Weltkriegs in Europa
DESCRIPTION:Sechs Jahre Krieg und mehr als 60 Millionen Tote: Am 8. Mai besiegelte die bedingungslose Kapitulation der deutschen Wehrmacht das Ende des Zweiten Weltkriegs in Europa und des Nationalsozialismus. \nQuelle + Informationen: Bundeszentrale für politische Bildung
URL:https://www.stadtteilzentrum-steglitz.de/veranstaltung/ende-des-zweiten-weltkriegs-in-europa/2024-05-08/
CATEGORIES:Allgemeine Termine
ATTACH;FMTTYPE=image/jpeg:https://www.stadtteilzentrum-steglitz.de/wp-content/uploads/2021/07/kriegsende.jpg
END:VEVENT
BEGIN:VEVENT
DTSTART;VALUE=DATE:20240512
DTEND;VALUE=DATE:20240513
DTSTAMP:20260421T110714
CREATED:20210712T115059Z
LAST-MODIFIED:20210712T115059Z
UID:10000976-1715472000-1715558399@www.stadtteilzentrum-steglitz.de
SUMMARY:Muttertag
DESCRIPTION:Als Begründerin des heutigen Muttertags gilt Anna Jarvis (USA). In Deutschland wurde der Muttertag 1922/23 durch den Verband Deutscher Blumengeschäftsinhaber mit Plakaten „Ehret die Mutter“ in den Schaufenstern etabliert und – betont unpolitisch als Tag der Blumenwünsche gefeiert. In Deutschland ist der Muttertag nicht gesetzlich verankert\, sodass dessen Datum nur auf freiwilligen Übereinkünften basieren kann. \nQuelle + Informationen: www.kleiner-kalender.de
URL:https://www.stadtteilzentrum-steglitz.de/veranstaltung/muttertag/2024-05-12/
LOCATION:Weltweit\, Deutschland
CATEGORIES:Allgemeine Termine
ATTACH;FMTTYPE=image/jpeg:https://www.stadtteilzentrum-steglitz.de/wp-content/uploads/2021/07/muttertag.jpg
END:VEVENT
BEGIN:VEVENT
DTSTART;VALUE=DATE:20240517
DTEND;VALUE=DATE:20240518
DTSTAMP:20260421T110714
CREATED:20210712T121443Z
LAST-MODIFIED:20210712T121443Z
UID:10000982-1715904000-1715990399@www.stadtteilzentrum-steglitz.de
SUMMARY:IDAHOBIT
DESCRIPTION:Der Internationale Tag gegen Homo-\, Bi-\, Inter- und Transfeindlichkeit (IDAHOBIT) wird seit 2005 jährlich am 17. Mai von queeren Personen und ihren Verbündeten als Aktionstag begangen\, um durch verschiedene Aktionen\, auf die Diskriminierung von queeren Menschen hinzuweisen. Das Datum wurde zur Erinnerung an den 17. Mai 1990 gewählt\, an dem die Weltgesundheitsorganisation (WHO) beschloss\, Homosexualität zu entpathologisieren\, d.h. nicht mehr als Krankheit zu definieren. \nQuelle: https://queer-lexikon.net
URL:https://www.stadtteilzentrum-steglitz.de/veranstaltung/idahobit/2024-05-17/
CATEGORIES:Allgemeine Termine
ATTACH;FMTTYPE=image/jpeg:https://www.stadtteilzentrum-steglitz.de/wp-content/uploads/2021/07/regenbogenflagge.jpg
END:VEVENT
BEGIN:VEVENT
DTSTART;VALUE=DATE:20240521
DTEND;VALUE=DATE:20240522
DTSTAMP:20260421T110714
CREATED:20210712T124257Z
LAST-MODIFIED:20210712T124257Z
UID:10000988-1716249600-1716335999@www.stadtteilzentrum-steglitz.de
SUMMARY:Welttag für kulturelle Entwicklung
DESCRIPTION:Der Welttag für kulturelle Entwicklung (auch „Welttag der kulturellen Vielfalt für Dialog und Entwicklung“) wurde im Jahr 2002 durch die UNESCO eingeführt. Er findet am 21. Mai statt. Einen Vorläufer zu dem Gedenktag gab es bereits seit 1991. Der „Welttag der Kulturellen Vielfalt“ soll Staaten und Zivilgesellschaften anregen\, das Verständnis für kulturelle Vielfalt zu vertiefen. \nQuelle: www.kleiner-kalender.de
URL:https://www.stadtteilzentrum-steglitz.de/veranstaltung/welttag-fuer-kulturelle-entwicklung/2024-05-21/
CATEGORIES:Allgemeine Termine
ATTACH;FMTTYPE=image/jpeg:https://www.stadtteilzentrum-steglitz.de/wp-content/uploads/2018/01/haende_kieztreff_1.jpg
END:VEVENT
BEGIN:VEVENT
DTSTART;VALUE=DATE:20240528
DTEND;VALUE=DATE:20240529
DTSTAMP:20260421T110714
CREATED:20210712T125701Z
LAST-MODIFIED:20210712T125702Z
UID:10001532-1716854400-1716940799@www.stadtteilzentrum-steglitz.de
SUMMARY:Internationaler Weltspieltag
DESCRIPTION:Kinder brauchen Platz und Bewegung für eine gesunde körperliche Entwicklung und um zu lernen. Über das Spiel entwickeln sie motorische Fähigkeiten und eignen sich soziale Kompetenzen an. In einer Gesellschaft mit immer weniger Kindern und starken Bedürfnissen der älteren Generation ist ein abnehmendes Verständnis für das lautstarke Spielen zu verzeichnen. Mit dem Weltspieltag will das Deutsche Kinderhilfswerk gemeinsam mit seinen Partnern im Bündnis Recht auf Spiel die Bedeutung des Spiels für Kinder ins Bewusstsein rufen und mehr Akzeptanz für spielende Kinder fordern. \nDer Weltspieltag in Deutschland ist eine Initiative des Deutschen Kinderhilfswerkes e.V. sowie weiterer bundesweiter Träger und Initiativen\, die im Bündnis Recht auf Spiel zusammengeschlossen sind. Der Weltspieltag findet weltweit jedes Jahr am 28. Mai statt! \nQuelle + Informationen: https://www.recht-auf-spiel.de/
URL:https://www.stadtteilzentrum-steglitz.de/veranstaltung/internationaler-weltspieltag/2024-05-28/
CATEGORIES:Allgemeine Termine
ATTACH;FMTTYPE=image/jpeg:https://www.stadtteilzentrum-steglitz.de/wp-content/uploads/2019/02/AdobeStock_164447293_web.jpg
END:VEVENT
BEGIN:VEVENT
DTSTART;VALUE=DATE:20240531
DTEND;VALUE=DATE:20240601
DTSTAMP:20260421T110714
CREATED:20210712T123341Z
LAST-MODIFIED:20210712T123341Z
UID:10000985-1717113600-1717199999@www.stadtteilzentrum-steglitz.de
SUMMARY:Fest der Nachbarn
DESCRIPTION:Seit 1999 feiern europaweit und in der ganzen Nachbarn gemeinsam feiern und zeigen eine Geste für Nachbarschaft und Gemeinschaft. Von Nachbarschaftshäusern organisiert finden auch in Deutschland große\, vielfältige Feste\, die interkulturelle und inklusive Begegnung und Verständigung ermöglichen. Das Fest der Nachbarn wird am letzten Freitag im Mai gefeiert. \nQuelle + Informationen: https://das-fest-der-nachbarn.de/
URL:https://www.stadtteilzentrum-steglitz.de/veranstaltung/fest-der-nachbarn/2024-05-31/
CATEGORIES:Stadtteilzentrum-Steglitz
ATTACH;FMTTYPE=image/jpeg:https://www.stadtteilzentrum-steglitz.de/wp-content/uploads/2015/02/Das-Fest-der-Nachbarn_20130531_00.jpg
END:VEVENT
END:VCALENDAR