BEGIN:VCALENDAR
VERSION:2.0
PRODID:-//Stadtteilzentrum Steglitz e.V. - ECPv6.15.20//NONSGML v1.0//EN
CALSCALE:GREGORIAN
METHOD:PUBLISH
X-ORIGINAL-URL:https://www.stadtteilzentrum-steglitz.de
X-WR-CALDESC:Veranstaltungen für Stadtteilzentrum Steglitz e.V.
REFRESH-INTERVAL;VALUE=DURATION:PT1H
X-Robots-Tag:noindex
X-PUBLISHED-TTL:PT1H
BEGIN:VTIMEZONE
TZID:Europe/Berlin
BEGIN:DAYLIGHT
TZOFFSETFROM:+0100
TZOFFSETTO:+0200
TZNAME:CEST
DTSTART:20230326T010000
END:DAYLIGHT
BEGIN:STANDARD
TZOFFSETFROM:+0200
TZOFFSETTO:+0100
TZNAME:CET
DTSTART:20231029T010000
END:STANDARD
BEGIN:DAYLIGHT
TZOFFSETFROM:+0100
TZOFFSETTO:+0200
TZNAME:CEST
DTSTART:20240331T010000
END:DAYLIGHT
BEGIN:STANDARD
TZOFFSETFROM:+0200
TZOFFSETTO:+0100
TZNAME:CET
DTSTART:20241027T010000
END:STANDARD
BEGIN:DAYLIGHT
TZOFFSETFROM:+0100
TZOFFSETTO:+0200
TZNAME:CEST
DTSTART:20250330T010000
END:DAYLIGHT
BEGIN:STANDARD
TZOFFSETFROM:+0200
TZOFFSETTO:+0100
TZNAME:CET
DTSTART:20251026T010000
END:STANDARD
BEGIN:DAYLIGHT
TZOFFSETFROM:+0100
TZOFFSETTO:+0200
TZNAME:CEST
DTSTART:20260329T010000
END:DAYLIGHT
BEGIN:STANDARD
TZOFFSETFROM:+0200
TZOFFSETTO:+0100
TZNAME:CET
DTSTART:20261025T010000
END:STANDARD
END:VTIMEZONE
BEGIN:VEVENT
DTSTART;VALUE=DATE:20241201
DTEND;VALUE=DATE:20241202
DTSTAMP:20260419T144659
CREATED:20210707T072307Z
LAST-MODIFIED:20210707T072307Z
UID:10001487-1733011200-1733097599@www.stadtteilzentrum-steglitz.de
SUMMARY:Welt AIDS Tag
DESCRIPTION:… will Solidarität mit Menschen mit HIV und AIDS fördern und Diskriminierung entgegenwirken. Er erinnert an die Menschen\, die an den Folgen der Infektion verstorben sind. Und er ruft dazu auf\, weltweit Zugang für alle zu Prävention und Versorgung zu schaffen. \nQuelle + Informationen: www.welt-aids-tag.de
URL:https://www.stadtteilzentrum-steglitz.de/veranstaltung/welt-aids-tag/2024-12-01/
LOCATION:Weltweit\, Deutschland
ATTACH;FMTTYPE=image/jpeg:https://www.stadtteilzentrum-steglitz.de/wp-content/uploads/2021/07/aids.jpg
END:VEVENT
BEGIN:VEVENT
DTSTART;VALUE=DATE:20241203
DTEND;VALUE=DATE:20241204
DTSTAMP:20260419T144659
CREATED:20210707T075031Z
LAST-MODIFIED:20210707T081034Z
UID:10001491-1733184000-1733270399@www.stadtteilzentrum-steglitz.de
SUMMARY:Internationaler Tag der Menschen mit Behinderungen
DESCRIPTION:Der internationale Tag der Menschen mit Behinderung wird seit 1993 jedes Jahr am 3. Dezember begangen. Er soll das Bewusstsein für die Belange von Menschen mit Behinderungen stärken. In Deutschland fällt die Bilanz in Sachen Inklusion gemischt aus. \nQuelle + Informationen: Bundeszentrale für politische Bildung
URL:https://www.stadtteilzentrum-steglitz.de/veranstaltung/internationaler-tag-der-menschen-mit-behinderungen/2024-12-03/
CATEGORIES:Allgemeine Termine
ATTACH;FMTTYPE=image/jpeg:https://www.stadtteilzentrum-steglitz.de/wp-content/uploads/2021/07/behinderung.jpg
END:VEVENT
BEGIN:VEVENT
DTSTART;VALUE=DATE:20241205
DTEND;VALUE=DATE:20241206
DTSTAMP:20260419T144659
CREATED:20210707T121337Z
LAST-MODIFIED:20210707T121337Z
UID:10001495-1733356800-1733443199@www.stadtteilzentrum-steglitz.de
SUMMARY:Internationaler Tag des Ehrenamts
DESCRIPTION:Ehrenamt hat viele Gesichter: In Deutschland engagieren sich 31 Millionen Menschen freiwillig. Sie leisten damit einen wichtigen Beitrag für unsere Gesellschaft. \nQuelle + Informationen: www.bundesregierung.de \nEin Ehrenamt im Stadtteilzentrum: www.stadtteilzentrum-steglitz.de
URL:https://www.stadtteilzentrum-steglitz.de/veranstaltung/internationaler-tag-des-ehrenamts/2024-12-05/
CATEGORIES:Allgemeine Termine
ATTACH;FMTTYPE=image/jpeg:https://www.stadtteilzentrum-steglitz.de/wp-content/uploads/2021/07/ehrenamt.jpg
END:VEVENT
BEGIN:VEVENT
DTSTART;VALUE=DATE:20241210
DTEND;VALUE=DATE:20241211
DTSTAMP:20260419T144659
CREATED:20210707T122851Z
LAST-MODIFIED:20210707T122851Z
UID:10001499-1733788800-1733875199@www.stadtteilzentrum-steglitz.de
SUMMARY:Tag der Menschrechte
DESCRIPTION:Am 10. Dezember 1948 verabschiedeten die Vereinten Nationen die Allgemeine Erklärung der Menschenrechte. Das Dokument war eine direkte Reaktion auf die Ereignisse des drei Jahre zuvor beendeten Zweiten Weltkriegs: Gemeinsam sollte sich die Weltgemeinschaft dazu verpflichten\, dass es nie wieder zu solch grauenvollen Verbrechen kommt. \nQuelle + Informationen: Bundeszentrale für politische Bildung
URL:https://www.stadtteilzentrum-steglitz.de/veranstaltung/tag-der-menschrechte/2024-12-10/
LOCATION:Weltweit\, Deutschland
CATEGORIES:Allgemeine Termine
ATTACH;FMTTYPE=image/jpeg:https://www.stadtteilzentrum-steglitz.de/wp-content/uploads/2021/07/menschenrechte.jpg
END:VEVENT
BEGIN:VEVENT
DTSTART;VALUE=DATE:20241218
DTEND;VALUE=DATE:20241219
DTSTAMP:20260419T144659
CREATED:20210707T123746Z
LAST-MODIFIED:20210712T085505Z
UID:10001503-1734480000-1734566399@www.stadtteilzentrum-steglitz.de
SUMMARY:Internationaler Tag der Migranten
DESCRIPTION:Der 18. Dezember ist der Internationale Tag der Migranten. Nie zuvor lebten so viele Migranten auf der Welt wie heute. Dabei leiden sie zunehmend unter Ausbeutung und Diskriminierung. Die Wirtschaft dagegen profitiert von den globalen Menschenströmen\, gerade in entwickelten Ländern. \nQuelle + Informationen: Bundeszentrale für politische Bildung
URL:https://www.stadtteilzentrum-steglitz.de/veranstaltung/internationaler-tag-der-migranten/2024-12-18/
LOCATION:Weltweit\, Deutschland
CATEGORIES:Allgemeine Termine
ATTACH;FMTTYPE=image/jpeg:https://www.stadtteilzentrum-steglitz.de/wp-content/uploads/2021/07/migranten.jpg
END:VEVENT
BEGIN:VEVENT
DTSTART;VALUE=DATE:20250116
DTEND;VALUE=DATE:20250117
DTSTAMP:20260419T144659
CREATED:20210712T100806Z
LAST-MODIFIED:20210712T100806Z
UID:10000964-1736985600-1737071999@www.stadtteilzentrum-steglitz.de
SUMMARY:Welttag der Migranten und Flüchtlinge
DESCRIPTION:Am 16. Januar 2022 findet der Welttag der Migranten und Flüchtlinge statt. Dieser kirchliche Gedenktag wurde 1914 von Papst Benedikt XV. mit dem Dekret Ethnografica studia ausgerufen. Anlass war der Eindruck des Ersten Weltkrieges. Der Tag ist auch als Welttag des Migranten und Flüchtlings bekannt. Der Tag ist nicht mit dem seit 2001 jährlich stattfindenden Weltflüchtlingstag am 20. Juni zu verwechseln\, der von den Vereinten Nationen ausgerufen wurde. \nQuelle: www.kleiner-kalender.de
URL:https://www.stadtteilzentrum-steglitz.de/veranstaltung/welttag-der-migranten-und-fluechtlinge/2025-01-16/
LOCATION:Weltweit\, Deutschland
CATEGORIES:Allgemeine Termine
ATTACH;FMTTYPE=image/jpeg:https://www.stadtteilzentrum-steglitz.de/wp-content/uploads/2021/07/migranten.jpg
END:VEVENT
BEGIN:VEVENT
DTSTART;VALUE=DATE:20250127
DTEND;VALUE=DATE:20250128
DTSTAMP:20260419T144659
CREATED:20210708T084052Z
LAST-MODIFIED:20210708T093444Z
UID:10001507-1737936000-1738022399@www.stadtteilzentrum-steglitz.de
SUMMARY:Gedenken an die Opfer des Nationalsozialismus
DESCRIPTION:Am 27. Januar 1945 befreiten sowjetische Soldaten das Vernichtungslager Auschwitz. Hier wurden zwischen 1940 und 1945 mehr als eine Million Menschen umgebracht. Der Name „Auschwitz“ gilt heute als Symbol für den Massenmord an den europäischen Juden. Seit 1996 wird in Deutschland am 27. Januar offiziell der Opfer des Nationalsozialismus gedacht. 2005 wurde der Tag international zum Holocaust-Gedenktag. \nQuelle + Informationen: Bundeszentrale für politische Bildung
URL:https://www.stadtteilzentrum-steglitz.de/veranstaltung/gedenken-an-die-opfer-des-nationalsozialismus/2025-01-27/
LOCATION:Weltweit\, Deutschland
CATEGORIES:Allgemeine Termine
ATTACH;FMTTYPE=image/jpeg:https://www.stadtteilzentrum-steglitz.de/wp-content/uploads/2021/07/stolperstein.jpg
END:VEVENT
END:VCALENDAR