BEGIN:VCALENDAR
VERSION:2.0
PRODID:-//Stadtteilzentrum Steglitz e.V. - ECPv6.15.20//NONSGML v1.0//EN
CALSCALE:GREGORIAN
METHOD:PUBLISH
X-WR-CALNAME:Stadtteilzentrum Steglitz e.V.
X-ORIGINAL-URL:https://www.stadtteilzentrum-steglitz.de
X-WR-CALDESC:Veranstaltungen für Stadtteilzentrum Steglitz e.V.
REFRESH-INTERVAL;VALUE=DURATION:PT1H
X-Robots-Tag:noindex
X-PUBLISHED-TTL:PT1H
BEGIN:VTIMEZONE
TZID:Europe/Berlin
BEGIN:DAYLIGHT
TZOFFSETFROM:+0100
TZOFFSETTO:+0200
TZNAME:CEST
DTSTART:20200329T010000
END:DAYLIGHT
BEGIN:STANDARD
TZOFFSETFROM:+0200
TZOFFSETTO:+0100
TZNAME:CET
DTSTART:20201025T010000
END:STANDARD
BEGIN:DAYLIGHT
TZOFFSETFROM:+0100
TZOFFSETTO:+0200
TZNAME:CEST
DTSTART:20210328T010000
END:DAYLIGHT
BEGIN:STANDARD
TZOFFSETFROM:+0200
TZOFFSETTO:+0100
TZNAME:CET
DTSTART:20211031T010000
END:STANDARD
BEGIN:DAYLIGHT
TZOFFSETFROM:+0100
TZOFFSETTO:+0200
TZNAME:CEST
DTSTART:20220327T010000
END:DAYLIGHT
BEGIN:STANDARD
TZOFFSETFROM:+0200
TZOFFSETTO:+0100
TZNAME:CET
DTSTART:20221030T010000
END:STANDARD
END:VTIMEZONE
BEGIN:VEVENT
DTSTART;VALUE=DATE:20210730
DTEND;VALUE=DATE:20210731
DTSTAMP:20260424T124832
CREATED:20210701T085440Z
LAST-MODIFIED:20210705T111522Z
UID:10001002-1627603200-1627689599@www.stadtteilzentrum-steglitz.de
SUMMARY:Internationaler Tag der Freundschaft
DESCRIPTION:Am Tag der Freundschaft soll der wichtigen Bedeutung der Freundschaft gedacht werden. Dabei geht es um die Freundschaft zwischen Personen\, aber auch um freundschaftliche Beziehungen zwischen einzelnen Ländern und Kulturen. \n  \nQuelle: Kleiner Kalender
URL:https://www.stadtteilzentrum-steglitz.de/veranstaltung/internationaler-tag-der-freundschaft-2021/2021-07-30/
LOCATION:Weltweit\, Deutschland
CATEGORIES:Allgemeine Termine
ATTACH;FMTTYPE=image/jpeg:https://www.stadtteilzentrum-steglitz.de/wp-content/uploads/2021/07/freundschaft.jpg
END:VEVENT
BEGIN:VEVENT
DTSTART;TZID=Europe/Berlin:20210724T120000
DTEND;TZID=Europe/Berlin:20210724T170000
DTSTAMP:20260424T124832
CREATED:20210701T083926Z
LAST-MODIFIED:20210701T083926Z
UID:10001001-1627128000-1627146000@www.stadtteilzentrum-steglitz.de
SUMMARY:CSD Parade 2021
DESCRIPTION:DEMO | POLITIK UND PARTY  \nUnter dem Motto „SAVE OUR COMMUNITY – SAVE YOUR PRIDE“ zieht der Berliner CSD zum 43. mal durch die Hauptstadt.  \nStartzone\nLeipziger Straße – Spittelmarkt \nZeiten | Timings\n12:00 Uhr Treffen – 13:00 Uhr Demo-Start \nAnkunft | Finale\nEnde Urania – Schöneberger LGBTTIQA Area | Kiez
URL:https://www.stadtteilzentrum-steglitz.de/veranstaltung/csd-parade-2021/
LOCATION:Leipziger Straße & Spittelmarkt\, Berlin\, 10117\, Deutschland
CATEGORIES:Allgemeine Termine
ATTACH;FMTTYPE=image/jpeg:https://www.stadtteilzentrum-steglitz.de/wp-content/uploads/2021/07/regenbogenflagge.jpg
ORGANIZER;CN="Berliner CSD e.V.":MAILTO:info@csd-berlin.de
END:VEVENT
BEGIN:VEVENT
DTSTART;VALUE=DATE:20210717
DTEND;VALUE=DATE:20210718
DTSTAMP:20260424T124832
CREATED:20210701T080548Z
LAST-MODIFIED:20210705T085212Z
UID:10000996-1626480000-1626566399@www.stadtteilzentrum-steglitz.de
SUMMARY:Internationaler Tag der Gerechtigkeit
DESCRIPTION:Am 17. Juli 2021 wird der Internationale Tag für Gerechtigkeit gefeiert. Er ist auch als World Day for International Justice oder International Justice Day bekannt. Das Datum wurde gewählt\, da dies der Jahrestag des Rom-Statuts ist. Es bildet die vertragliche Grundlage des Internationalen Strafgerichtshofs (IStGH) mit Sitz in Den Haag. \nQuelle: Kleiner Kalender \n 
URL:https://www.stadtteilzentrum-steglitz.de/veranstaltung/internationaler-tag-der-gerechtigkeit/2021-07-17/
LOCATION:Weltweit\, Deutschland
CATEGORIES:Allgemeine Termine
ATTACH;FMTTYPE=image/jpeg:https://www.stadtteilzentrum-steglitz.de/wp-content/uploads/2021/07/gerechtigkeit.jpg
END:VEVENT
END:VCALENDAR